BEGIN:VCALENDAR
VERSION:2.0
PRODID:-//wp-events-plugin.com//7.2.3.1//EN
TZID:Europe/Paris
X-WR-TIMEZONE:Europe/Paris
BEGIN:VEVENT
UID:1-2@yvetot-normandie.fr
DTSTART;TZID=Europe/Paris:20230125T000000
DTEND;TZID=Europe/Paris:20230125T000000
DTSTAMP:20221219T135058Z
URL:https://www.yvetot-normandie.fr/evenement/conseil-communautaire/
SUMMARY:conseil communautaire
DESCRIPTION:
END:VEVENT
BEGIN:VTIMEZONE
TZID:Europe/Paris
X-LIC-LOCATION:Europe/Paris
BEGIN:STANDARD
DTSTART:20221030T020000
TZOFFSETFROM:+0200
TZOFFSETTO:+0100
TZNAME:CET
END:STANDARD
END:VTIMEZONE
END:VCALENDAR